Package: kissDE Version: 1.26.0 Command: /home/biocbuild/R/R/bin/R CMD build --keep-empty-dirs --no-resave-data kissDE StartedAt: 2025-01-31 00:31:57 -0000 (Fri, 31 Jan 2025) EndedAt: 2025-01-31 00:34:18 -0000 (Fri, 31 Jan 2025) EllapsedTime: 141.1 seconds RetCode: 0 Status: OK PackageFile: kissDE_1.26.0.tar.gz PackageFileSize: 841.6 KiB