Package: kissDE Version: 1.26.0 Command: /Library/Frameworks/R.framework/Resources/bin/R CMD check --install=check:kissDE.install-out.txt --library=/Library/Frameworks/R.framework/Resources/library --no-vignettes --timings kissDE_1.26.0.tar.gz StartedAt: 2025-02-04 23:46:43 -0500 (Tue, 04 Feb 2025) EndedAt: 2025-02-04 23:54:00 -0500 (Tue, 04 Feb 2025) EllapsedTime: 436.1 seconds RetCode: 0 Status: OK CheckDir: kissDE.Rcheck Warnings: 0