Package: kissDE Version: 1.26.0 Command: /Library/Frameworks/R.framework/Resources/bin/R CMD build --keep-empty-dirs --no-resave-data kissDE StartedAt: 2025-02-04 02:12:02 -0500 (Tue, 04 Feb 2025) EndedAt: 2025-02-04 02:14:31 -0500 (Tue, 04 Feb 2025) EllapsedTime: 149.3 seconds RetCode: 0 Status: OK PackageFile: kissDE_1.26.0.tar.gz PackageFileSize: 854.9 KiB