Package: kissDE Version: 1.26.0 Command: rm -rf kissDE.buildbin-libdir && mkdir kissDE.buildbin-libdir && /Users/biocbuild/BBS/utils/build-universal.sh kissDE_1.26.0.tar.gz /Library/Frameworks/R.framework/Resources/bin/R kissDE.buildbin-libdir StartedAt: 2025-02-01 15:28:46 -0500 (Sat, 01 Feb 2025) EndedAt: 2025-02-01 15:29:39 -0500 (Sat, 01 Feb 2025) EllapsedTime: 53.3 seconds RetCode: 0 Status: OK PackageFile: kissDE_1.26.0.tgz PackageFileSize: 773.4 KiB