Package: katdetectr Version: 1.8.0 Command: /home/biocbuild/R/R/bin/R CMD check --install=check:katdetectr.install-out.txt --library=/home/biocbuild/R/R/site-library --no-vignettes --timings katdetectr_1.8.0.tar.gz StartedAt: 2025-01-31 07:32:21 -0000 (Fri, 31 Jan 2025) EndedAt: 2025-01-31 07:38:34 -0000 (Fri, 31 Jan 2025) EllapsedTime: 372.6 seconds RetCode: 0 Status: OK CheckDir: katdetectr.Rcheck Warnings: 0