Package: karyoploteR Version: 1.32.0 Command: F:\biocbuild\bbs-3.20-bioc\R\bin\R.exe CMD INSTALL karyoploteR StartedAt: 2025-01-30 16:17:06 -0500 (Thu, 30 Jan 2025) EndedAt: 2025-01-30 16:18:39 -0500 (Thu, 30 Jan 2025) EllapsedTime: 93.4 seconds RetCode: 0 Status: OK