Package: karyoploteR Version: 1.32.0 Command: F:\biocbuild\bbs-3.20-bioc\R\bin\R.exe CMD check --no-multiarch --install=check:karyoploteR.install-out.txt --library=F:\biocbuild\bbs-3.20-bioc\R\library --no-vignettes --timings karyoploteR_1.32.0.tar.gz StartedAt: 2025-01-31 03:17:22 -0500 (Fri, 31 Jan 2025) EndedAt: 2025-01-31 03:30:24 -0500 (Fri, 31 Jan 2025) EllapsedTime: 782.4 seconds RetCode: 0 Status: OK CheckDir: karyoploteR.Rcheck Warnings: 0