Package: karyoploteR Version: 1.34.2 Command: /home/biocbuild/bbs-3.21-bioc/R/bin/R CMD build --keep-empty-dirs --no-resave-data karyoploteR StartedAt: 2025-10-08 18:10:39 -0400 (Wed, 08 Oct 2025) EndedAt: 2025-10-08 18:12:07 -0400 (Wed, 08 Oct 2025) EllapsedTime: 88.1 seconds RetCode: 0 Status: OK PackageFile: karyoploteR_1.34.2.tar.gz PackageFileSize: 2.568 MiB