Package: karyoploteR Version: 1.34.0 Command: /Library/Frameworks/R.framework/Resources/bin/R CMD INSTALL karyoploteR StartedAt: 2025-04-21 15:35:21 -0400 (Mon, 21 Apr 2025) EndedAt: 2025-04-21 15:36:32 -0400 (Mon, 21 Apr 2025) EllapsedTime: 70.8 seconds RetCode: 0 Status: OK