Package: karyoploteR Version: 1.34.0 Command: /Library/Frameworks/R.framework/Resources/bin/R CMD build --keep-empty-dirs --no-resave-data karyoploteR StartedAt: 2025-04-21 16:45:31 -0400 (Mon, 21 Apr 2025) EndedAt: 2025-04-21 16:46:06 -0400 (Mon, 21 Apr 2025) EllapsedTime: 35.4 seconds RetCode: 1 Status: ERROR PackageFile: None PackageFileSize: NA