Package: jazzPanda Version: 1.2.0 Command: /home/biocbuild/bbs-3.22-bioc/R/bin/R CMD INSTALL jazzPanda StartedAt: 2025-11-06 15:21:51 -0500 (Thu, 06 Nov 2025) EndedAt: 2025-11-06 15:22:22 -0500 (Thu, 06 Nov 2025) EllapsedTime: 31.2 seconds RetCode: 0 Status: OK