Package: jazzPanda Version: 1.2.0 Command: /home/biocbuild/bbs-3.22-bioc/R/bin/R CMD build --keep-empty-dirs --no-resave-data --md5 jazzPanda StartedAt: 2025-11-06 18:19:34 -0500 (Thu, 06 Nov 2025) EndedAt: 2025-11-06 18:22:56 -0500 (Thu, 06 Nov 2025) EllapsedTime: 201.2 seconds RetCode: 0 Status: OK PackageFile: jazzPanda_1.2.0.tar.gz PackageFileSize: 4.365 MiB