Package: iterativeBMA Version: 1.66.0 Command: rm -rf iterativeBMA.buildbin-libdir && mkdir iterativeBMA.buildbin-libdir && E:\biocbuild\bbs-3.21-bioc\R\bin\R.exe CMD INSTALL --build --library=iterativeBMA.buildbin-libdir iterativeBMA_1.66.0.tar.gz StartedAt: 2025-08-15 09:33:51 -0400 (Fri, 15 Aug 2025) EndedAt: 2025-08-15 09:34:18 -0400 (Fri, 15 Aug 2025) EllapsedTime: 26.9 seconds RetCode: 0 Status: OK PackageFile: iterativeBMA_1.66.0.zip PackageFileSize: 220.5 KiB