Package: isomiRs Version: 1.37.1 Command: chmod a+r isomiRs -R && F:\biocbuild\bbs-3.22-bioc\R\bin\R.exe CMD build --keep-empty-dirs --no-resave-data isomiRs StartedAt: 2025-08-14 21:02:18 -0400 (Thu, 14 Aug 2025) EndedAt: 2025-08-14 21:04:21 -0400 (Thu, 14 Aug 2025) EllapsedTime: 123.4 seconds RetCode: 0 Status: OK PackageFile: isomiRs_1.37.1.tar.gz PackageFileSize: 3.985 MiB