Package: islify Version: 1.2.0 Command: /home/biocbuild/bbs-3.22-bioc/R/bin/R CMD build --keep-empty-dirs --no-resave-data --md5 islify StartedAt: 2025-11-16 18:25:49 -0500 (Sun, 16 Nov 2025) EndedAt: 2025-11-16 18:26:08 -0500 (Sun, 16 Nov 2025) EllapsedTime: 19.0 seconds RetCode: 0 Status: OK PackageFile: islify_1.2.0.tar.gz PackageFileSize: 3.046 MiB