Package: islify Version: 1.2.0 Command: /Library/Frameworks/R.framework/Resources/bin/R CMD build --keep-empty-dirs --no-resave-data islify StartedAt: 2025-11-10 16:49:06 -0500 (Mon, 10 Nov 2025) EndedAt: 2025-11-10 16:49:15 -0500 (Mon, 10 Nov 2025) EllapsedTime: 9.1 seconds RetCode: 0 Status: OK PackageFile: islify_1.2.0.tar.gz PackageFileSize: 3.044 MiB