Package: islify Version: 1.2.0 Command: rm -rf islify.buildbin-libdir && mkdir islify.buildbin-libdir && /Users/biocbuild/BBS/utils/build-universal.sh islify_1.2.0.tar.gz /Library/Frameworks/R.framework/Resources/bin/R islify.buildbin-libdir StartedAt: 2025-11-10 23:24:26 -0500 (Mon, 10 Nov 2025) EndedAt: 2025-11-10 23:24:33 -0500 (Mon, 10 Nov 2025) EllapsedTime: 6.1 seconds RetCode: 0 Status: OK PackageFile: islify_1.2.0.tgz PackageFileSize: 2.084 MiB