Package: iscream Version: 1.0.0 Command: /home/biocbuild/bbs-3.22-bioc/R/bin/R CMD INSTALL iscream StartedAt: 2025-11-25 15:36:59 -0500 (Tue, 25 Nov 2025) EndedAt: 2025-11-25 15:38:53 -0500 (Tue, 25 Nov 2025) EllapsedTime: 113.4 seconds RetCode: 0 Status: OK