Package: iscream Version: 1.0.0 Command: /home/biocbuild/bbs-3.22-bioc/R/bin/R CMD build --keep-empty-dirs --no-resave-data --md5 iscream StartedAt: 2025-11-25 18:44:23 -0500 (Tue, 25 Nov 2025) EndedAt: 2025-11-25 18:46:47 -0500 (Tue, 25 Nov 2025) EllapsedTime: 144.1 seconds RetCode: 0 Status: OK PackageFile: iscream_1.0.0.tar.gz PackageFileSize: 5.443 MiB