Package: intansv Version: 1.48.0 Command: /home/biocbuild/R/R/bin/R CMD check --install=check:intansv.install-out.txt --library=/home/biocbuild/R/R/site-library --no-vignettes --timings intansv_1.48.0.tar.gz StartedAt: 2025-05-09 09:55:45 -0000 (Fri, 09 May 2025) EndedAt: 2025-05-09 10:04:01 -0000 (Fri, 09 May 2025) EllapsedTime: 495.5 seconds RetCode: 0 Status: OK CheckDir: intansv.Rcheck Warnings: 0