Package: immunogenViewer Version: 1.4.0 Command: rm -rf immunogenViewer.buildbin-libdir && mkdir immunogenViewer.buildbin-libdir && /Users/biocbuild/BBS/utils/build-universal.sh immunogenViewer_1.4.0.tar.gz /Library/Frameworks/R.framework/Resources/bin/R immunogenViewer.buildbin-libdir StartedAt: 2025-11-18 17:51:37 -0500 (Tue, 18 Nov 2025) EndedAt: 2025-11-18 17:52:14 -0500 (Tue, 18 Nov 2025) EllapsedTime: 36.6 seconds RetCode: 0 Status: OK PackageFile: immunogenViewer_1.4.0.tgz PackageFileSize: 575.2 KiB