Package: immunogenViewer Version: 1.1.1 Command: /Library/Frameworks/R.framework/Resources/bin/R CMD check --install=check:immunogenViewer.install-out.txt --library=/Library/Frameworks/R.framework/Resources/library --no-vignettes --timings immunogenViewer_1.1.1.tar.gz StartedAt: 2025-04-03 21:18:24 -0400 (Thu, 03 Apr 2025) EndedAt: 2025-04-03 21:21:00 -0400 (Thu, 03 Apr 2025) EllapsedTime: 156.0 seconds RetCode: 0 Status: OK CheckDir: immunogenViewer.Rcheck Warnings: 0