Package: immunogenViewer Version: 1.0.0 Command: /Library/Frameworks/R.framework/Resources/bin/R CMD build --keep-empty-dirs --no-resave-data immunogenViewer StartedAt: 2025-01-03 01:41:13 -0500 (Fri, 03 Jan 2025) EndedAt: 2025-01-03 01:45:44 -0500 (Fri, 03 Jan 2025) EllapsedTime: 270.5 seconds RetCode: 1 Status: ERROR PackageFile: None PackageFileSize: NA