Package: immunoClust Version: 1.40.0 Command: /home/biocbuild/bbs-3.21-bioc/R/bin/R CMD build --keep-empty-dirs --no-resave-data immunoClust StartedAt: 2025-10-01 18:08:26 -0400 (Wed, 01 Oct 2025) EndedAt: 2025-10-01 18:11:19 -0400 (Wed, 01 Oct 2025) EllapsedTime: 172.1 seconds RetCode: 0 Status: OK PackageFile: immunoClust_1.40.0.tar.gz PackageFileSize: 2.504 MiB