Package: imcRtools Version: 1.14.0 Command: /Library/Frameworks/R.framework/Resources/bin/R CMD INSTALL imcRtools StartedAt: 2025-09-18 16:04:44 -0400 (Thu, 18 Sep 2025) EndedAt: 2025-09-18 16:06:50 -0400 (Thu, 18 Sep 2025) EllapsedTime: 126.4 seconds RetCode: 0 Status: OK