Package: imcRtools Version: 1.14.0 Command: /Library/Frameworks/R.framework/Resources/bin/R CMD check --install=check:imcRtools.install-out.txt --library=/Library/Frameworks/R.framework/Resources/library --no-vignettes --timings imcRtools_1.14.0.tar.gz StartedAt: 2025-05-09 04:41:51 -0400 (Fri, 09 May 2025) EndedAt: 2025-05-09 05:17:05 -0400 (Fri, 09 May 2025) EllapsedTime: 2113.8 seconds RetCode: 0 Status: OK CheckDir: imcRtools.Rcheck Warnings: 0