Package: imcRtools Version: 1.14.0 Command: /Library/Frameworks/R.framework/Resources/bin/R CMD check --install=check:imcRtools.install-out.txt --library=/Library/Frameworks/R.framework/Resources/library --no-vignettes --timings imcRtools_1.14.0.tar.gz StartedAt: 2025-04-21 19:54:03 -0400 (Mon, 21 Apr 2025) EndedAt: 2025-04-21 20:00:08 -0400 (Mon, 21 Apr 2025) EllapsedTime: 364.3 seconds RetCode: 1 Status: ERROR CheckDir: imcRtools.Rcheck Warnings: NA