Package: imcRtools Version: 1.14.0 Command: rm -rf imcRtools.buildbin-libdir && mkdir imcRtools.buildbin-libdir && /Users/biocbuild/BBS/utils/build-universal.sh imcRtools_1.14.0.tar.gz /Library/Frameworks/R.framework/Resources/bin/R imcRtools.buildbin-libdir StartedAt: 2025-05-14 15:25:19 -0400 (Wed, 14 May 2025) EndedAt: 2025-05-14 15:26:30 -0400 (Wed, 14 May 2025) EllapsedTime: 71.1 seconds RetCode: 0 Status: OK PackageFile: imcRtools_1.14.0.tgz PackageFileSize: 6.589 MiB