Package: imageTCGA Version: 1.2.0 Command: /home/biocbuild/bbs-3.22-bioc/R/bin/R CMD INSTALL imageTCGA StartedAt: 2025-11-16 15:12:05 -0500 (Sun, 16 Nov 2025) EndedAt: 2025-11-16 15:12:11 -0500 (Sun, 16 Nov 2025) EllapsedTime: 5.9 seconds RetCode: 0 Status: OK