Package: imageTCGA Version: 1.2.0 Command: /home/biocbuild/bbs-3.22-bioc/R/bin/R CMD build --keep-empty-dirs --no-resave-data --md5 imageTCGA StartedAt: 2025-11-16 18:19:26 -0500 (Sun, 16 Nov 2025) EndedAt: 2025-11-16 18:19:39 -0500 (Sun, 16 Nov 2025) EllapsedTime: 13.0 seconds RetCode: 0 Status: OK PackageFile: imageTCGA_1.2.0.tar.gz PackageFileSize: 2.606 MiB