Package: imageTCGA Version: 1.2.0 Command: /Library/Frameworks/R.framework/Resources/bin/R CMD INSTALL imageTCGA StartedAt: 2025-11-03 15:17:49 -0500 (Mon, 03 Nov 2025) EndedAt: 2025-11-03 15:18:21 -0500 (Mon, 03 Nov 2025) EllapsedTime: 31.6 seconds RetCode: 0 Status: OK