Package: imageTCGA Version: 1.2.0 Command: rm -rf imageTCGA.buildbin-libdir && mkdir imageTCGA.buildbin-libdir && /Users/biocbuild/BBS/utils/build-universal.sh imageTCGA_1.2.0.tar.gz /Library/Frameworks/R.framework/Resources/bin/R imageTCGA.buildbin-libdir StartedAt: 2025-11-04 01:45:36 -0500 (Tue, 04 Nov 2025) EndedAt: 2025-11-04 01:45:49 -0500 (Tue, 04 Nov 2025) EllapsedTime: 12.9 seconds RetCode: 0 Status: OK PackageFile: imageTCGA_1.2.0.tgz PackageFileSize: 1.832 MiB