Package: imageTCGA Version: 1.2.0 Command: /Library/Frameworks/R.framework/Resources/bin/R CMD INSTALL imageTCGA StartedAt: 2025-11-20 16:18:56 -0500 (Thu, 20 Nov 2025) EndedAt: 2025-11-20 16:19:04 -0500 (Thu, 20 Nov 2025) EllapsedTime: 8.5 seconds RetCode: 0 Status: OK