Package: imageTCGA Version: 1.2.0 Command: /Library/Frameworks/R.framework/Resources/bin/R CMD build --keep-empty-dirs --no-resave-data imageTCGA StartedAt: 2025-11-21 03:19:28 -0500 (Fri, 21 Nov 2025) EndedAt: 2025-11-21 03:19:47 -0500 (Fri, 21 Nov 2025) EllapsedTime: 19.3 seconds RetCode: 0 Status: OK PackageFile: imageTCGA_1.2.0.tar.gz PackageFileSize: 2.604 MiB