Package: imageTCGA Version: 1.2.0 Command: rm -rf imageTCGA.buildbin-libdir && mkdir imageTCGA.buildbin-libdir && /Users/biocbuild/BBS/utils/build-universal.sh imageTCGA_1.2.0.tar.gz /Library/Frameworks/R.framework/Resources/bin/R imageTCGA.buildbin-libdir StartedAt: 2025-11-23 09:13:32 -0500 (Sun, 23 Nov 2025) EndedAt: 2025-11-23 09:13:45 -0500 (Sun, 23 Nov 2025) EllapsedTime: 12.6 seconds RetCode: 0 Status: OK PackageFile: imageTCGA_1.2.0.tgz PackageFileSize: 1.833 MiB