Package: illuminaio Version: 0.50.0 Command: rm -rf illuminaio.buildbin-libdir && mkdir illuminaio.buildbin-libdir && /Users/biocbuild/BBS/utils/build-universal.sh illuminaio_0.50.0.tar.gz /Library/Frameworks/R.framework/Resources/bin/R illuminaio.buildbin-libdir StartedAt: 2025-05-13 13:09:31 -0400 (Tue, 13 May 2025) EndedAt: 2025-05-13 13:09:39 -0400 (Tue, 13 May 2025) EllapsedTime: 8.8 seconds RetCode: 0 Status: OK PackageFile: illuminaio_0.50.0.tgz PackageFileSize: 446.4 KiB