Package: illuminaio Version: 0.50.0 Command: /Library/Frameworks/R.framework/Resources/bin/R CMD check --install=check:illuminaio.install-out.txt --library=/Library/Frameworks/R.framework/Resources/library --no-vignettes --timings illuminaio_0.50.0.tar.gz StartedAt: 2025-04-21 21:21:26 -0400 (Mon, 21 Apr 2025) EndedAt: 2025-04-21 21:22:07 -0400 (Mon, 21 Apr 2025) EllapsedTime: 41.7 seconds RetCode: 0 Status: OK CheckDir: illuminaio.Rcheck Warnings: 0