Package: illuminaio Version: 0.50.0 Command: /Library/Frameworks/R.framework/Resources/bin/R CMD build --keep-empty-dirs --no-resave-data illuminaio StartedAt: 2025-04-21 17:10:20 -0400 (Mon, 21 Apr 2025) EndedAt: 2025-04-21 17:10:41 -0400 (Mon, 21 Apr 2025) EllapsedTime: 21.7 seconds RetCode: 0 Status: OK PackageFile: illuminaio_0.50.0.tar.gz PackageFileSize: 428.9 KiB