Package: illuminaio Version: 0.50.0 Command: /home/biocbuild/R/R/bin/R CMD INSTALL illuminaio StartedAt: 2025-05-12 20:12:16 -0000 (Mon, 12 May 2025) EndedAt: 2025-05-12 20:12:26 -0000 (Mon, 12 May 2025) EllapsedTime: 9.5 seconds RetCode: 0 Status: OK