Package: illuminaio Version: 0.50.0 Command: /Library/Frameworks/R.framework/Resources/bin/R CMD INSTALL illuminaio StartedAt: 2025-05-12 15:03:07 -0400 (Mon, 12 May 2025) EndedAt: 2025-05-12 15:03:10 -0400 (Mon, 12 May 2025) EllapsedTime: 3.2 seconds RetCode: 0 Status: OK