Package: igvR Version: 1.26.0 Command: /home/biocbuild/R/R/bin/R CMD check --install=check:igvR.install-out.txt --library=/home/biocbuild/R/R/site-library --no-vignettes --timings igvR_1.26.0.tar.gz StartedAt: 2025-01-31 07:18:25 -0000 (Fri, 31 Jan 2025) EndedAt: 2025-01-31 07:23:40 -0000 (Fri, 31 Jan 2025) EllapsedTime: 314.3 seconds RetCode: 0 Status: OK CheckDir: igvR.Rcheck Warnings: 0