Package: igvR Version: 1.26.0 Command: /Library/Frameworks/R.framework/Resources/bin/R CMD check --install=check:igvR.install-out.txt --library=/Library/Frameworks/R.framework/Resources/library --no-vignettes --timings igvR_1.26.0.tar.gz StartedAt: 2025-01-31 22:21:34 -0500 (Fri, 31 Jan 2025) EndedAt: 2025-01-31 22:26:45 -0500 (Fri, 31 Jan 2025) EllapsedTime: 310.8 seconds RetCode: 0 Status: OK CheckDir: igvR.Rcheck Warnings: 0