Package: igblastr Version: 1.0.0 Command: /home/biocbuild/bbs-3.22-bioc/R/bin/R CMD INSTALL igblastr StartedAt: 2025-11-05 15:41:01 -0500 (Wed, 05 Nov 2025) EndedAt: 2025-11-05 15:41:16 -0500 (Wed, 05 Nov 2025) EllapsedTime: 14.7 seconds RetCode: 0 Status: OK