Package: igblastr Version: 1.0.0 Command: /home/biocbuild/bbs-3.22-bioc/R/bin/R CMD build --keep-empty-dirs --no-resave-data --md5 igblastr StartedAt: 2025-11-05 18:20:24 -0500 (Wed, 05 Nov 2025) EndedAt: 2025-11-05 18:25:31 -0500 (Wed, 05 Nov 2025) EllapsedTime: 307.3 seconds RetCode: 0 Status: OK PackageFile: igblastr_1.0.0.tar.gz PackageFileSize: 4.313 MiB