Package: idpr Version: 1.16.0 Command: /home/biocbuild/R/R/bin/R CMD build --keep-empty-dirs --no-resave-data idpr StartedAt: 2025-02-04 00:21:30 -0000 (Tue, 04 Feb 2025) EndedAt: 2025-02-04 00:22:58 -0000 (Tue, 04 Feb 2025) EllapsedTime: 87.0 seconds RetCode: 0 Status: OK PackageFile: idpr_1.16.0.tar.gz PackageFileSize: 1.636 MiB