Package: icetea Version: 1.24.0 Command: /home/biocbuild/R/R/bin/R CMD check --install=check:icetea.install-out.txt --library=/home/biocbuild/R/R/site-library --no-vignettes --timings icetea_1.24.0.tar.gz StartedAt: 2025-01-31 07:16:21 -0000 (Fri, 31 Jan 2025) EndedAt: 2025-01-31 07:23:58 -0000 (Fri, 31 Jan 2025) EllapsedTime: 456.5 seconds RetCode: 0 Status: WARNINGS CheckDir: icetea.Rcheck Warnings: 1