Package: iasva Version: 1.26.0 Command: /Library/Frameworks/R.framework/Resources/bin/R CMD INSTALL iasva StartedAt: 2025-09-29 16:14:43 -0400 (Mon, 29 Sep 2025) EndedAt: 2025-09-29 16:15:06 -0400 (Mon, 29 Sep 2025) EllapsedTime: 23.0 seconds RetCode: 0 Status: OK