Package: iSEEu Version: 1.20.0 Command: /Library/Frameworks/R.framework/Resources/bin/R CMD INSTALL iSEEu StartedAt: 2025-04-21 15:15:10 -0400 (Mon, 21 Apr 2025) EndedAt: 2025-04-21 15:15:24 -0400 (Mon, 21 Apr 2025) EllapsedTime: 14.2 seconds RetCode: 0 Status: OK