Package: iSEEtree Version: 1.0.0 Command: chmod a+r iSEEtree -R && F:\biocbuild\bbs-3.20-bioc\R\bin\R.exe CMD build --keep-empty-dirs --no-resave-data iSEEtree StartedAt: 2025-01-30 19:42:15 -0500 (Thu, 30 Jan 2025) EndedAt: 2025-01-30 19:43:59 -0500 (Thu, 30 Jan 2025) EllapsedTime: 103.9 seconds RetCode: 0 Status: OK PackageFile: iSEEtree_1.0.0.tar.gz PackageFileSize: 655.3 KiB