Package: iSEEtree Version: 1.0.0 Command: rm -rf iSEEtree.buildbin-libdir && mkdir iSEEtree.buildbin-libdir && F:\biocbuild\bbs-3.20-bioc\R\bin\R.exe CMD INSTALL --build --library=iSEEtree.buildbin-libdir iSEEtree_1.0.0.tar.gz StartedAt: 2025-01-31 08:53:57 -0500 (Fri, 31 Jan 2025) EndedAt: 2025-01-31 08:55:05 -0500 (Fri, 31 Jan 2025) EllapsedTime: 68.7 seconds RetCode: 0 Status: OK PackageFile: iSEEtree_1.0.0.zip PackageFileSize: 806.6 KiB